BEGIN:VCALENDAR
VERSION:2.0
PRODID:-//Noodle Bar Schwyz//NONSGML kigkonsult.se iCalcreator 2.16.12//
METHOD:PUBLISH
X-MS-OLK-FORCEINSPECTOROPEN:TRUE
BEGIN:VEVENT
UID:20260419T222740CEST-2844TxU6LP@Noodle Bar Schwyz
DTSTAMP:20260419T202740Z
DESCRIPTION:Es geten unsere normalen Öffnungszeiten
DTSTART:20191225T000000
DTEND:20191225T000000
ORGANIZER:MAILTO:Noodle Bar Schwyz <info@noodlebarsz.ch>
SUMMARY:weihnacht - geöffnet
END:VEVENT
END:VCALENDAR
