BEGIN:VCALENDAR
VERSION:2.0
PRODID:-//Noodle Bar Schwyz//NONSGML kigkonsult.se iCalcreator 2.16.12//
METHOD:PUBLISH
X-MS-OLK-FORCEINSPECTOROPEN:TRUE
BEGIN:VEVENT
UID:20260419T204334CEST-8957RtLAtU@Noodle Bar Schwyz
DTSTAMP:20260419T184334Z
DESCRIPTION:Es geten unsere normalen Öffnungszeiten\n
DTSTART:20191014T000000
DTEND:20191014T000000
ORGANIZER:MAILTO:Noodle Bar Schwyz <info@noodlebarsz.ch>
SUMMARY:Chilbimontag - geöffnet
END:VEVENT
END:VCALENDAR
