BEGIN:VCALENDAR
VERSION:2.0
PRODID:-//Noodle Bar Schwyz//NONSGML kigkonsult.se iCalcreator 2.16.12//
METHOD:PUBLISH
X-MS-OLK-FORCEINSPECTOROPEN:TRUE
BEGIN:VEVENT
UID:20260419T222506CEST-88370fj5Z0@Noodle Bar Schwyz
DTSTAMP:20260419T202506Z
DESCRIPTION:Silvester 11:30 Uhr- 14:00 Uhr Geschlossen\nab 17:30 Uhr Geöffn
 et
DTSTART:20191231T000000
DTEND:20191231T000000
ORGANIZER:MAILTO:Noodle Bar Schwyz <info@noodlebarsz.ch>
SUMMARY:Silvester - 17:30 bis 24:00 
END:VEVENT
END:VCALENDAR
