BEGIN:VCALENDAR
VERSION:2.0
PRODID:-//Noodle Bar Schwyz//NONSGML kigkonsult.se iCalcreator 2.16.12//
METHOD:PUBLISH
X-MS-OLK-FORCEINSPECTOROPEN:TRUE
BEGIN:VEVENT
UID:20260419T223138CEST-67808X7csn@Noodle Bar Schwyz
DTSTAMP:20260419T203138Z
DESCRIPTION:Neu Jahr 11:30 Uhr- 14:00 Uhr Geschlossen\nab 17:30 Uhr bis 23:
 00 Uhr Geöffnet
DTSTART:20200101T070000
DTEND:20200101T230000
ORGANIZER:MAILTO:Noodle Bar Schwyz <info@noodlebarsz.ch>
SUMMARY:Neu Jahr- ab 17:30 bis 23:00 Uhr Geöffnet 
END:VEVENT
END:VCALENDAR
