BEGIN:VCALENDAR
VERSION:2.0
PRODID:-//Noodle Bar Schwyz//NONSGML kigkonsult.se iCalcreator 2.16.12//
METHOD:PUBLISH
X-MS-OLK-FORCEINSPECTOROPEN:TRUE
BEGIN:VEVENT
UID:20260419T224328CEST-6427CJpPHU@Noodle Bar Schwyz
DTSTAMP:20260419T204328Z
DESCRIPTION:Silvester 11:30 Uhr- 14:00 Uhr Geschlossen\nab 17:30 Uhr bis 24
 :00 Uhr Geöffnet
DTSTART:20191231T000000
DTEND:20191231T000000
ORGANIZER:MAILTO:Noodle Bar Schwyz <info@noodlebarsz.ch>
SUMMARY:Silvester - ab 17:30 bis 24:00 Uhr Geöffnet 
END:VEVENT
END:VCALENDAR
