BEGIN:VCALENDAR
VERSION:2.0
PRODID:-//Noodle Bar Schwyz//NONSGML kigkonsult.se iCalcreator 2.16.12//
METHOD:PUBLISH
X-MS-OLK-FORCEINSPECTOROPEN:TRUE
BEGIN:VEVENT
UID:20260419T223021CEST-4595ud9WVX@Noodle Bar Schwyz
DTSTAMP:20260419T203021Z
DESCRIPTION:Heilige drei Könige - GESCHLOSSEN
DTSTART:20200106T060000
DTEND:20200107T060000
ORGANIZER:MAILTO:Noodle Bar Schwyz <info@noodlebarsz.ch>
SUMMARY:Heilige drei Könige - GESCHLOSSEN
END:VEVENT
END:VCALENDAR
