BEGIN:VCALENDAR
VERSION:2.0
PRODID:-//Noodle Bar Schwyz//NONSGML kigkonsult.se iCalcreator 2.16.12//
METHOD:PUBLISH
X-MS-OLK-FORCEINSPECTOROPEN:TRUE
BEGIN:VEVENT
UID:20260419T224145CEST-9014rUjANF@Noodle Bar Schwyz
DTSTAMP:20260419T204145Z
DESCRIPTION:Erste Fassnacht- GEÖFFNET
DTSTART:20200113T000000
DTEND:20200114T060000
ORGANIZER:MAILTO:Noodle Bar Schwyz <info@noodlebarsz.ch>
SUMMARY:Erste Fassnacht-GEÖFFNET
END:VEVENT
END:VCALENDAR
