BEGIN:VCALENDAR
VERSION:2.0
PRODID:-//Noodle Bar Schwyz//NONSGML kigkonsult.se iCalcreator 2.16.12//
METHOD:PUBLISH
X-MS-OLK-FORCEINSPECTOROPEN:TRUE
BEGIN:VEVENT
UID:20260419T222640CEST-4172B1G4Gc@Noodle Bar Schwyz
DTSTAMP:20260419T202640Z
DESCRIPTION: GÜDELMONTAG - GEÖFFNET
DTSTART:20200224T000000
DTEND:20200225T235900
ORGANIZER:MAILTO:Noodle Bar Schwyz <info@noodlebarsz.ch>
SUMMARY:GÜDELMONTAG - GEÖFFNET
END:VEVENT
END:VCALENDAR
