BEGIN:VCALENDAR
VERSION:2.0
PRODID:-//Noodle Bar Schwyz//NONSGML kigkonsult.se iCalcreator 2.16.12//
METHOD:PUBLISH
X-MS-OLK-FORCEINSPECTOROPEN:TRUE
BEGIN:VEVENT
UID:20260419T222913CEST-6550SOD0uj@Noodle Bar Schwyz
DTSTAMP:20260419T202913Z
DESCRIPTION:JOSEFTAG - GEÖFFNET 
DTSTART:20200319T000000
DTEND:20200319T235900
ORGANIZER:MAILTO:Noodle Bar Schwyz <info@noodlebarsz.ch>
SUMMARY:JOSEFTAG - GEÖFFNET
END:VEVENT
END:VCALENDAR
