BEGIN:VCALENDAR
VERSION:2.0
PRODID:-//Noodle Bar Schwyz//NONSGML kigkonsult.se iCalcreator 2.16.12//
METHOD:PUBLISH
X-MS-OLK-FORCEINSPECTOROPEN:TRUE
BEGIN:VEVENT
UID:20260419T223118CEST-0267820hCf@Noodle Bar Schwyz
DTSTAMP:20260419T203118Z
DESCRIPTION:
DTSTART:20200801T210000
DTEND:20200801T213000
ORGANIZER:MAILTO:Noodle Bar Schwyz <info@noodlebarsz.ch>
SUMMARY:NATIONALFEIERTAG - GEÖFFNET
END:VEVENT
END:VCALENDAR
