BEGIN:VCALENDAR
VERSION:2.0
PRODID:-//Noodle Bar Schwyz//NONSGML kigkonsult.se iCalcreator 2.16.12//
METHOD:PUBLISH
X-MS-OLK-FORCEINSPECTOROPEN:TRUE
BEGIN:VEVENT
UID:20260419T223903CEST-9139ReMPSp@Noodle Bar Schwyz
DTSTAMP:20260419T203903Z
DESCRIPTION:
DTSTART:20201012T000000
DTEND:20201012T235900
ORGANIZER:MAILTO:Noodle Bar Schwyz <info@noodlebarsz.ch>
SUMMARY:CHILBIMONTAG - GEÖFFNET
END:VEVENT
END:VCALENDAR
