BEGIN:VCALENDAR
VERSION:2.0
PRODID:-//Noodle Bar Schwyz//NONSGML kigkonsult.se iCalcreator 2.16.12//
METHOD:PUBLISH
X-MS-OLK-FORCEINSPECTOROPEN:TRUE
BEGIN:VEVENT
UID:20260419T222204CEST-29801uhx0l@Noodle Bar Schwyz
DTSTAMP:20260419T202204Z
DESCRIPTION:
DTSTART:20201224T000000
DTEND:20201224T235900
ORGANIZER:MAILTO:Noodle Bar Schwyz <info@noodlebarsz.ch>
SUMMARY:HEILIGER ABEND - GESCHLOSSEN
END:VEVENT
END:VCALENDAR
