BEGIN:VCALENDAR
VERSION:2.0
PRODID:-//Noodle Bar Schwyz//NONSGML kigkonsult.se iCalcreator 2.16.12//
METHOD:PUBLISH
X-MS-OLK-FORCEINSPECTOROPEN:TRUE
BEGIN:VEVENT
UID:20260419T223108CEST-3710ROrF1T@Noodle Bar Schwyz
DTSTAMP:20260419T203108Z
DESCRIPTION:Öffnungszeiten über Weihnachten und Neujahr 2020/2021\n\n24. De
 zember 20\nab 17:00 Uhr bis 23:00 Uhr\n\n\n31. Dezember 20 Silvester\nab 1
 7:00 Uhr bis 24:00 Uhr a la Carte Service\n\n \n\n1. Januar 2021\n17:00 Uh
 r bis 19:00 Uhr\nTake Away bis 20:00 Uhr\n\n \n\n6. Januar 2021 (durchgehe
 nd geöffnet)\n11:00 Uhr bis 19:00 Uhr\nTake Away bis 20:00 Uhr\n
DTSTART:20210106T000000
DTEND:20210106T235900
ORGANIZER:MAILTO:Noodle Bar Schwyz <info@noodlebarsz.ch>
SUMMARY:Heilige drei Könige - GEÖFFNET
END:VEVENT
END:VCALENDAR
