BEGIN:VCALENDAR
VERSION:2.0
PRODID:-//Noodle Bar Schwyz//NONSGML kigkonsult.se iCalcreator 2.16.12//
METHOD:PUBLISH
X-MS-OLK-FORCEINSPECTOROPEN:TRUE
BEGIN:VEVENT
UID:20260419T223920CEST-3492tdVUia@Noodle Bar Schwyz
DTSTAMP:20260419T203920Z
DESCRIPTION:
DTSTART:20210402T000000
DTEND:20210402T235900
ORGANIZER:MAILTO:Noodle Bar Schwyz <info@noodlebarsz.ch>
SUMMARY:Karfreitag - GEÖFFNET
END:VEVENT
END:VCALENDAR
