BEGIN:VCALENDAR
VERSION:2.0
PRODID:-//Noodle Bar Schwyz//NONSGML kigkonsult.se iCalcreator 2.16.12//
METHOD:PUBLISH
X-MS-OLK-FORCEINSPECTOROPEN:TRUE
BEGIN:VEVENT
UID:20260419T223321CEST-3959gUSM0J@Noodle Bar Schwyz
DTSTAMP:20260419T203321Z
DESCRIPTION:
DTSTART:20210513T000000
DTEND:20210513T235900
ORGANIZER:MAILTO:Noodle Bar Schwyz <info@noodlebarsz.ch>
SUMMARY:Auffahrt - GEÖFFNET
END:VEVENT
END:VCALENDAR
