BEGIN:VCALENDAR
VERSION:2.0
PRODID:-//Noodle Bar Schwyz//NONSGML kigkonsult.se iCalcreator 2.16.12//
METHOD:PUBLISH
X-MS-OLK-FORCEINSPECTOROPEN:TRUE
BEGIN:VEVENT
UID:20260419T223802CEST-4098UZ9DFt@Noodle Bar Schwyz
DTSTAMP:20260419T203802Z
DESCRIPTION:
DTSTART:20210603T000000
DTEND:20210603T235900
ORGANIZER:MAILTO:Noodle Bar Schwyz <info@noodlebarsz.ch>
SUMMARY:Fronleichnam - GEÖFFNET
END:VEVENT
END:VCALENDAR
