BEGIN:VCALENDAR
VERSION:2.0
PRODID:-//Noodle Bar Schwyz//NONSGML kigkonsult.se iCalcreator 2.16.12//
METHOD:PUBLISH
X-MS-OLK-FORCEINSPECTOROPEN:TRUE
BEGIN:VEVENT
UID:20260419T222902CEST-6729Hu9MX8@Noodle Bar Schwyz
DTSTAMP:20260419T202902Z
DESCRIPTION:
DTSTART:20211101T000000
DTEND:20211101T235900
ORGANIZER:MAILTO:Noodle Bar Schwyz <info@noodlebarsz.ch>
SUMMARY:Allerheiligen - GESCHLOSSEN
END:VEVENT
END:VCALENDAR
