BEGIN:VCALENDAR
VERSION:2.0
PRODID:-//Noodle Bar Schwyz//NONSGML kigkonsult.se iCalcreator 2.16.12//
METHOD:PUBLISH
X-MS-OLK-FORCEINSPECTOROPEN:TRUE
BEGIN:VEVENT
UID:20260419T224407CEST-376540PNXL@Noodle Bar Schwyz
DTSTAMP:20260419T204407Z
DESCRIPTION:Vorweihnachtstag                                              g
 eschlossen\nFreitag\, 24. Dez. 21                                         
       \n
DTSTART:20211224T000000
DTEND:20211224T235900
ORGANIZER:MAILTO:Noodle Bar Schwyz <info@noodlebarsz.ch>
SUMMARY:Heiliger Abend - GESCHLOSSEN
END:VEVENT
END:VCALENDAR
