BEGIN:VCALENDAR
VERSION:2.0
PRODID:-//Noodle Bar Schwyz//NONSGML kigkonsult.se iCalcreator 2.16.12//
METHOD:PUBLISH
X-MS-OLK-FORCEINSPECTOROPEN:TRUE
BEGIN:VEVENT
UID:20260419T223715CEST-4151udo5XU@Noodle Bar Schwyz
DTSTAMP:20260419T203715Z
DESCRIPTION:Weihnachten                                                    
                     Offen\n\nSamstag\, 25. Dez 21                         
    11:30 – 14:30 / 17:30 – 23:30\n\n\n
DTSTART:20211225T000000
DTEND:20211225T235900
ORGANIZER:MAILTO:Noodle Bar Schwyz <info@noodlebarsz.ch>
SUMMARY:Weihnachten - GEÖFFNET
END:VEVENT
END:VCALENDAR
