BEGIN:VCALENDAR
VERSION:2.0
PRODID:-//Noodle Bar Schwyz//NONSGML kigkonsult.se iCalcreator 2.16.12//
METHOD:PUBLISH
X-MS-OLK-FORCEINSPECTOROPEN:TRUE
BEGIN:VEVENT
UID:20260419T223550CEST-6628AAvWKU@Noodle Bar Schwyz
DTSTAMP:20260419T203550Z
DESCRIPTION:Stephanstag                                                    
                       Offen\n\nSonntag\, 26. Dez 21                       
       11:30 – 14:30 / 17:30 – 23:00\n
DTSTART:20211226T000000
DTEND:20211226T235900
ORGANIZER:MAILTO:Noodle Bar Schwyz <info@noodlebarsz.ch>
SUMMARY:Stephanstag - GEÖFFNET
END:VEVENT
END:VCALENDAR
