BEGIN:VCALENDAR
VERSION:2.0
PRODID:-//Noodle Bar Schwyz//NONSGML kigkonsult.se iCalcreator 2.16.12//
METHOD:PUBLISH
X-MS-OLK-FORCEINSPECTOROPEN:TRUE
BEGIN:VEVENT
UID:20260419T223402CEST-64599trgMF@Noodle Bar Schwyz
DTSTAMP:20260419T203402Z
DESCRIPTION:Silvester (Silvestermenü)                                   Mit
 tag geschlossen\n\nFreitag\, 31. Dez 21                                   
               ab 17:30 - 23:30\n
DTSTART:20211231T000000
DTEND:20211231T235900
ORGANIZER:MAILTO:Noodle Bar Schwyz <info@noodlebarsz.ch>
SUMMARY:Silvester - GEÖFFNET
END:VEVENT
END:VCALENDAR
