BEGIN:VCALENDAR
VERSION:2.0
PRODID:-//Noodle Bar Schwyz//NONSGML kigkonsult.se iCalcreator 2.16.12//
METHOD:PUBLISH
X-MS-OLK-FORCEINSPECTOROPEN:TRUE
BEGIN:VEVENT
UID:20260419T222558CEST-1041lucPdb@Noodle Bar Schwyz
DTSTAMP:20260419T202558Z
DESCRIPTION:Unser Betrieb bleibt vom 01.08 bis 15.08.21 wegen Betriebsferie
 n geschlossen.\n\nBesten Dank für Ihr Verständnis
DTSTART:20210801T000000
DTEND:20210815T235900
ORGANIZER:MAILTO:Noodle Bar Schwyz <info@noodlebarsz.ch>
SUMMARY:BETRIEBSFERIEN 01.08-15.08.21
END:VEVENT
END:VCALENDAR
