BEGIN:VCALENDAR
VERSION:2.0
PRODID:-//Noodle Bar Schwyz//NONSGML kigkonsult.se iCalcreator 2.16.12//
METHOD:PUBLISH
X-MS-OLK-FORCEINSPECTOROPEN:TRUE
BEGIN:VEVENT
UID:20260419T224232CEST-3276xV6Rnd@Noodle Bar Schwyz
DTSTAMP:20260419T204232Z
DESCRIPTION:Maria Empfängnis                                               
                   Offen\n\nMittwoch\, 8. Dez 21                           
  11:30 – 14:30 / 17:30 – 23:00\n\n \n
DTSTART:20211208T000000
DTEND:20211208T235900
ORGANIZER:MAILTO:Noodle Bar Schwyz <info@noodlebarsz.ch>
SUMMARY:Maria Empfängnis - GEÖFFNET
END:VEVENT
END:VCALENDAR
