BEGIN:VCALENDAR
VERSION:2.0
PRODID:-//Noodle Bar Schwyz//NONSGML kigkonsult.se iCalcreator 2.16.12//
METHOD:PUBLISH
X-MS-OLK-FORCEINSPECTOROPEN:TRUE
BEGIN:VEVENT
UID:20260419T221607CEST-3135RuWMBH@Noodle Bar Schwyz
DTSTAMP:20260419T201607Z
DESCRIPTION:Neujahr                                                        
      Mittag geschlossen\n\nSamstag\, 1. Jan 22                            
                      ab 17:30 - 23:30\n
DTSTART:20211231T000000
DTEND:20211231T235900
ORGANIZER:MAILTO:Noodle Bar Schwyz <info@noodlebarsz.ch>
SUMMARY:Neujahr - Abend GEÖFFNET
END:VEVENT
END:VCALENDAR
