BEGIN:VCALENDAR
VERSION:2.0
PRODID:-//Noodle Bar Schwyz//NONSGML kigkonsult.se iCalcreator 2.16.12//
METHOD:PUBLISH
X-MS-OLK-FORCEINSPECTOROPEN:TRUE
BEGIN:VEVENT
UID:20260419T223909CEST-5640WvhTvD@Noodle Bar Schwyz
DTSTAMP:20260419T203909Z
DESCRIPTION:Sonntag\, 2. Jan 22      11:30 – 14:30 / 17:30 – 23:00
DTSTART:20220102T000000
DTEND:20220102T235900
ORGANIZER:MAILTO:Noodle Bar Schwyz <info@noodlebarsz.ch>
SUMMARY:2. Januar- GEÖFFNET
END:VEVENT
END:VCALENDAR
