BEGIN:VCALENDAR
VERSION:2.0
PRODID:-//Noodle Bar Schwyz//NONSGML kigkonsult.se iCalcreator 2.16.12//
METHOD:PUBLISH
X-MS-OLK-FORCEINSPECTOROPEN:TRUE
BEGIN:VEVENT
UID:20260419T223402CEST-916176i2NB@Noodle Bar Schwyz
DTSTAMP:20260419T203402Z
DESCRIPTION:
DTSTART:20220103T000000
DTEND:20220103T235900
ORGANIZER:MAILTO:Noodle Bar Schwyz <info@noodlebarsz.ch>
SUMMARY:3. Januar- GESCHLOSSEN
END:VEVENT
END:VCALENDAR
