BEGIN:VCALENDAR
VERSION:2.0
PRODID:-//Noodle Bar Schwyz//NONSGML kigkonsult.se iCalcreator 2.16.12//
METHOD:PUBLISH
X-MS-OLK-FORCEINSPECTOROPEN:TRUE
BEGIN:VEVENT
UID:20260419T222847CEST-8881BThSfP@Noodle Bar Schwyz
DTSTAMP:20260419T202847Z
DESCRIPTION:Heilige drei Könige                                            
                    Offen\n\nSamstag\, 6. Jan 22                           
    11:30 – 14:30 / 17:30 – 23:30\n
DTSTART:20220106T000000
DTEND:20220106T235900
ORGANIZER:MAILTO:Noodle Bar Schwyz <info@noodlebarsz.ch>
SUMMARY:6. Januar- GEÖFFNET
END:VEVENT
END:VCALENDAR
