BEGIN:VCALENDAR
VERSION:2.0
PRODID:-//Noodle Bar Schwyz//NONSGML kigkonsult.se iCalcreator 2.16.12//
METHOD:PUBLISH
X-MS-OLK-FORCEINSPECTOROPEN:TRUE
BEGIN:VEVENT
UID:20260419T222847CEST-5920dK4v88@Noodle Bar Schwyz
DTSTAMP:20260419T202847Z
DESCRIPTION:Infoblatt
DTSTART:20220228T000000
DTEND:20220228T000000
ORGANIZER:MAILTO:Noodle Bar Schwyz <info@noodlebarsz.ch>
SUMMARY:Güdelmontag - GEÖFFNET
END:VEVENT
END:VCALENDAR
