BEGIN:VCALENDAR
VERSION:2.0
PRODID:-//Noodle Bar Schwyz//NONSGML kigkonsult.se iCalcreator 2.16.12//
METHOD:PUBLISH
X-MS-OLK-FORCEINSPECTOROPEN:TRUE
BEGIN:VEVENT
UID:20260419T221727CEST-4498sLFIXU@Noodle Bar Schwyz
DTSTAMP:20260419T201727Z
DESCRIPTION:
DTSTART:20220301T000000
DTEND:20220301T000000
ORGANIZER:MAILTO:Noodle Bar Schwyz <info@noodlebarsz.ch>
SUMMARY:Güdeldienstag - GEÖFFNET
END:VEVENT
END:VCALENDAR
