BEGIN:VCALENDAR
VERSION:2.0
PRODID:-//Noodle Bar Schwyz//NONSGML kigkonsult.se iCalcreator 2.16.12//
METHOD:PUBLISH
X-MS-OLK-FORCEINSPECTOROPEN:TRUE
BEGIN:VEVENT
UID:20260419T222740CEST-3717U9t7BT@Noodle Bar Schwyz
DTSTAMP:20260419T202740Z
DESCRIPTION:
DTSTART:20220415T000000
DTEND:20220415T000000
ORGANIZER:MAILTO:Noodle Bar Schwyz <info@noodlebarsz.ch>
SUMMARY:Karfreitag - GEÖFFNET
END:VEVENT
END:VCALENDAR
