BEGIN:VCALENDAR
VERSION:2.0
PRODID:-//Noodle Bar Schwyz//NONSGML kigkonsult.se iCalcreator 2.16.12//
METHOD:PUBLISH
X-MS-OLK-FORCEINSPECTOROPEN:TRUE
BEGIN:VEVENT
UID:20260419T223021CEST-5223CvLUA1@Noodle Bar Schwyz
DTSTAMP:20260419T203021Z
DESCRIPTION:
DTSTART:20220606T000000
DTEND:20220606T000000
ORGANIZER:MAILTO:Noodle Bar Schwyz <info@noodlebarsz.ch>
SUMMARY:Pfingstmontag - GESCHLOSSEN
END:VEVENT
END:VCALENDAR
