BEGIN:VCALENDAR
VERSION:2.0
PRODID:-//Noodle Bar Schwyz//NONSGML kigkonsult.se iCalcreator 2.16.12//
METHOD:PUBLISH
X-MS-OLK-FORCEINSPECTOROPEN:TRUE
BEGIN:VEVENT
UID:20260419T224041CEST-9058WWXIsj@Noodle Bar Schwyz
DTSTAMP:20260419T204041Z
DESCRIPTION:
DTSTART:20221225T000000
DTEND:20221225T000000
ORGANIZER:MAILTO:Noodle Bar Schwyz <info@noodlebarsz.ch>
SUMMARY:Weihnachten - GEÖFFNET
END:VEVENT
END:VCALENDAR
