BEGIN:VCALENDAR
VERSION:2.0
PRODID:-//Noodle Bar Schwyz//NONSGML kigkonsult.se iCalcreator 2.16.12//
METHOD:PUBLISH
X-MS-OLK-FORCEINSPECTOROPEN:TRUE
BEGIN:VEVENT
UID:20260419T221607CEST-5273jhJ4eR@Noodle Bar Schwyz
DTSTAMP:20260419T201607Z
DESCRIPTION:
DTSTART:20221226T000000
DTEND:20221226T000000
ORGANIZER:MAILTO:Noodle Bar Schwyz <info@noodlebarsz.ch>
SUMMARY:Stephanstag - GEÖFFNET
END:VEVENT
END:VCALENDAR
