BEGIN:VCALENDAR
VERSION:2.0
PRODID:-//Noodle Bar Schwyz//NONSGML kigkonsult.se iCalcreator 2.16.12//
METHOD:PUBLISH
X-MS-OLK-FORCEINSPECTOROPEN:TRUE
BEGIN:VEVENT
UID:20260419T222902CEST-9849zNTovA@Noodle Bar Schwyz
DTSTAMP:20260419T202902Z
DESCRIPTION:
DTSTART:20221231T000000
DTEND:20221231T000000
ORGANIZER:MAILTO:Noodle Bar Schwyz <info@noodlebarsz.ch>
SUMMARY:SILVESTER - ab 17:00 GEÖFFNET
END:VEVENT
END:VCALENDAR
