BEGIN:VCALENDAR
VERSION:2.0
PRODID:-//Noodle Bar Schwyz//NONSGML kigkonsult.se iCalcreator 2.16.12//
METHOD:PUBLISH
X-MS-OLK-FORCEINSPECTOROPEN:TRUE
BEGIN:VEVENT
UID:20260419T204410CEST-4749mCUU0p@Noodle Bar Schwyz
DTSTAMP:20260419T184410Z
DESCRIPTION:Heilige drei Könige - GEÖFFNET
DTSTART:20230106T233000
DTEND:20230107T000000
ORGANIZER:MAILTO:Noodle Bar Schwyz <info@noodlebarsz.ch>
SUMMARY:Heilige drei Könige- GEÖFFNET
END:VEVENT
END:VCALENDAR
