BEGIN:VCALENDAR
VERSION:2.0
PRODID:-//Noodle Bar Schwyz//NONSGML kigkonsult.se iCalcreator 2.16.12//
METHOD:PUBLISH
X-MS-OLK-FORCEINSPECTOROPEN:TRUE
BEGIN:VEVENT
UID:20260419T204333CEST-64799Rz2ZI@Noodle Bar Schwyz
DTSTAMP:20260419T184333Z
DESCRIPTION:erste Fasnacht - GEÖFFNET
DTSTART:20230109T233000
DTEND:20230110T000000
ORGANIZER:MAILTO:Noodle Bar Schwyz <info@noodlebarsz.ch>
SUMMARY:erste Fasnacht - GEÖFFNET
END:VEVENT
END:VCALENDAR
