BEGIN:VCALENDAR
VERSION:2.0
PRODID:-//Noodle Bar Schwyz//NONSGML kigkonsult.se iCalcreator 2.16.12//
METHOD:PUBLISH
X-MS-OLK-FORCEINSPECTOROPEN:TRUE
BEGIN:VEVENT
UID:20260419T204410CEST-9586MiRCxO@Noodle Bar Schwyz
DTSTAMP:20260419T184410Z
DESCRIPTION:Valentinstag - GEÖFFNET
DTSTART:20230214T000000
DTEND:20230214T003000
ORGANIZER:MAILTO:Noodle Bar Schwyz <info@noodlebarsz.ch>
SUMMARY:Valentinstag - GEÖFFNET
END:VEVENT
END:VCALENDAR
