BEGIN:VCALENDAR
VERSION:2.0
PRODID:-//Noodle Bar Schwyz//NONSGML kigkonsult.se iCalcreator 2.16.12//
METHOD:PUBLISH
X-MS-OLK-FORCEINSPECTOROPEN:TRUE
BEGIN:VEVENT
UID:20260419T204533CEST-4315FGu2Z8@Noodle Bar Schwyz
DTSTAMP:20260419T184533Z
DESCRIPTION:Schmutziger Donnerstag - GEÖFFNET
DTSTART:20230216T000000
DTEND:20230216T003000
ORGANIZER:MAILTO:Noodle Bar Schwyz <info@noodlebarsz.ch>
SUMMARY:Schmutziger Donnerstag - GEÖFFNET
END:VEVENT
END:VCALENDAR
