BEGIN:VCALENDAR
VERSION:2.0
PRODID:-//Noodle Bar Schwyz//NONSGML kigkonsult.se iCalcreator 2.16.12//
METHOD:PUBLISH
X-MS-OLK-FORCEINSPECTOROPEN:TRUE
BEGIN:VEVENT
UID:20260419T204333CEST-9297Eg3HS8@Noodle Bar Schwyz
DTSTAMP:20260419T184333Z
DESCRIPTION:Fasnachtsmontag - GEÖFFNET
DTSTART:20230220T000000
DTEND:20230220T003000
ORGANIZER:MAILTO:Noodle Bar Schwyz <info@noodlebarsz.ch>
SUMMARY:Fasnachtsmontag - GEÖFFNET
END:VEVENT
END:VCALENDAR
