BEGIN:VCALENDAR
VERSION:2.0
PRODID:-//Noodle Bar Schwyz//NONSGML kigkonsult.se iCalcreator 2.16.12//
METHOD:PUBLISH
X-MS-OLK-FORCEINSPECTOROPEN:TRUE
BEGIN:VEVENT
UID:20260419T204335CEST-91121V0pXC@Noodle Bar Schwyz
DTSTAMP:20260419T184335Z
DESCRIPTION:St.Josef - GEÖFFNET
DTSTART:20230319T000000
DTEND:20230319T003000
ORGANIZER:MAILTO:Noodle Bar Schwyz <info@noodlebarsz.ch>
SUMMARY:St. Josef - GEÖFFNET
END:VEVENT
END:VCALENDAR
