BEGIN:VCALENDAR
VERSION:2.0
PRODID:-//Noodle Bar Schwyz//NONSGML kigkonsult.se iCalcreator 2.16.12//
METHOD:PUBLISH
X-MS-OLK-FORCEINSPECTOROPEN:TRUE
BEGIN:VEVENT
UID:20260419T204411CEST-95848IHndD@Noodle Bar Schwyz
DTSTAMP:20260419T184411Z
DESCRIPTION:Palmsonntag - GEÖFFNET
DTSTART:20230402T000000
DTEND:20230402T003000
ORGANIZER:MAILTO:Noodle Bar Schwyz <info@noodlebarsz.ch>
SUMMARY:Palmsonntag - GEÖFFNET
END:VEVENT
END:VCALENDAR
