BEGIN:VCALENDAR
VERSION:2.0
PRODID:-//Noodle Bar Schwyz//NONSGML kigkonsult.se iCalcreator 2.16.12//
METHOD:PUBLISH
X-MS-OLK-FORCEINSPECTOROPEN:TRUE
BEGIN:VEVENT
UID:20260419T204312CEST-5380BG2nV5@Noodle Bar Schwyz
DTSTAMP:20260419T184312Z
DESCRIPTION:Karfreitag - GEÖFFNET
DTSTART:20230407T000000
DTEND:20230407T003000
ORGANIZER:MAILTO:Noodle Bar Schwyz <info@noodlebarsz.ch>
SUMMARY:Karfreitag - GEÖFFNET
END:VEVENT
END:VCALENDAR
