BEGIN:VCALENDAR
VERSION:2.0
PRODID:-//Noodle Bar Schwyz//NONSGML kigkonsult.se iCalcreator 2.16.12//
METHOD:PUBLISH
X-MS-OLK-FORCEINSPECTOROPEN:TRUE
BEGIN:VEVENT
UID:20260419T204532CEST-3978Kb3xoR@Noodle Bar Schwyz
DTSTAMP:20260419T184532Z
DESCRIPTION:Ostern - GEÖFFNET
DTSTART:20230409T000000
DTEND:20230409T003000
ORGANIZER:MAILTO:Noodle Bar Schwyz <info@noodlebarsz.ch>
SUMMARY:Ostern - GEÖFFNET
END:VEVENT
END:VCALENDAR
