BEGIN:VCALENDAR
VERSION:2.0
PRODID:-//Noodle Bar Schwyz//NONSGML kigkonsult.se iCalcreator 2.16.12//
METHOD:PUBLISH
X-MS-OLK-FORCEINSPECTOROPEN:TRUE
BEGIN:VEVENT
UID:20260419T204435CEST-8778oUnG2g@Noodle Bar Schwyz
DTSTAMP:20260419T184435Z
DESCRIPTION:Muttertag - GEÖFFNET
DTSTART:20230514T000000
DTEND:20230514T003000
ORGANIZER:MAILTO:Noodle Bar Schwyz <info@noodlebarsz.ch>
SUMMARY:Muttertag - GEÖFFNET
END:VEVENT
END:VCALENDAR
