BEGIN:VCALENDAR
VERSION:2.0
PRODID:-//Noodle Bar Schwyz//NONSGML kigkonsult.se iCalcreator 2.16.12//
METHOD:PUBLISH
X-MS-OLK-FORCEINSPECTOROPEN:TRUE
BEGIN:VEVENT
UID:20260419T204532CEST-9347US3RVS@Noodle Bar Schwyz
DTSTAMP:20260419T184532Z
DESCRIPTION:Auffahrt-GEÖFFNET
DTSTART:20230518T000000
DTEND:20230518T235900
ORGANIZER:MAILTO:Noodle Bar Schwyz <info@noodlebarsz.ch>
SUMMARY:Auffahrt- GEÖFFNET
END:VEVENT
END:VCALENDAR
