BEGIN:VCALENDAR
VERSION:2.0
PRODID:-//Noodle Bar Schwyz//NONSGML kigkonsult.se iCalcreator 2.16.12//
METHOD:PUBLISH
X-MS-OLK-FORCEINSPECTOROPEN:TRUE
BEGIN:VEVENT
UID:20260419T204450CEST-9731T9OrFV@Noodle Bar Schwyz
DTSTAMP:20260419T184450Z
DESCRIPTION:Pfingsten-GEÖFFNET
DTSTART:20230528T000000
DTEND:20230528T235900
ORGANIZER:MAILTO:Noodle Bar Schwyz <info@noodlebarsz.ch>
SUMMARY:Pfingsten- GEÖFFNET
END:VEVENT
END:VCALENDAR
