BEGIN:VCALENDAR
VERSION:2.0
PRODID:-//Noodle Bar Schwyz//NONSGML kigkonsult.se iCalcreator 2.16.12//
METHOD:PUBLISH
X-MS-OLK-FORCEINSPECTOROPEN:TRUE
BEGIN:VEVENT
UID:20260419T204410CEST-2083HlTDgO@Noodle Bar Schwyz
DTSTAMP:20260419T184410Z
DESCRIPTION:Pfingstmontag- GESCHLOSSEN 
DTSTART:20230529T000000
DTEND:20230529T235900
ORGANIZER:MAILTO:Noodle Bar Schwyz <info@noodlebarsz.ch>
SUMMARY:Pfingstmontag-GESCHLOSSEN 
END:VEVENT
END:VCALENDAR
