BEGIN:VCALENDAR
VERSION:2.0
PRODID:-//Noodle Bar Schwyz//NONSGML kigkonsult.se iCalcreator 2.16.12//
METHOD:PUBLISH
X-MS-OLK-FORCEINSPECTOROPEN:TRUE
BEGIN:VEVENT
UID:20260419T204305CEST-80280FcLJH@Noodle Bar Schwyz
DTSTAMP:20260419T184305Z
DESCRIPTION:Fronleichnam-GEÖFFNET
DTSTART:20230608T000000
DTEND:20230608T235900
ORGANIZER:MAILTO:Noodle Bar Schwyz <info@noodlebarsz.ch>
SUMMARY:Fronleichnam- GEÖFFNET
END:VEVENT
END:VCALENDAR
