BEGIN:VCALENDAR
VERSION:2.0
PRODID:-//Noodle Bar Schwyz//NONSGML kigkonsult.se iCalcreator 2.16.12//
METHOD:PUBLISH
X-MS-OLK-FORCEINSPECTOROPEN:TRUE
BEGIN:VEVENT
UID:20260419T204314CEST-0428nUwvMd@Noodle Bar Schwyz
DTSTAMP:20260419T184314Z
DESCRIPTION:
DTSTART:20230623T000000
DTEND:20230624T000000
ORGANIZER:MAILTO:Noodle Bar Schwyz <info@noodlebarsz.ch>
SUMMARY:Jura Independence Day- GEÖFFNET
END:VEVENT
END:VCALENDAR
