BEGIN:VCALENDAR
VERSION:2.0
PRODID:-//Noodle Bar Schwyz//NONSGML kigkonsult.se iCalcreator 2.16.12//
METHOD:PUBLISH
X-MS-OLK-FORCEINSPECTOROPEN:TRUE
BEGIN:VEVENT
UID:20260419T204312CEST-2714Xj092s@Noodle Bar Schwyz
DTSTAMP:20260419T184312Z
DESCRIPTION:
DTSTART:20230815T000000
DTEND:20230816T190000
ORGANIZER:MAILTO:Noodle Bar Schwyz <info@noodlebarsz.ch>
SUMMARY:Mariä Himmelfahrt- GEÖFFNET
END:VEVENT
END:VCALENDAR
